BEGIN:VCALENDAR
VERSION:2.0
PRODID:-//BPW Ticino//NONSGML kigkonsult.se iCalcreator 2.16.12//
METHOD:PUBLISH
X-MS-OLK-FORCEINSPECTOROPEN:TRUE
BEGIN:VEVENT
UID:20260423T013940CEST-0466GEsZac@BPW Ticino
DTSTAMP:20260422T233940Z
DESCRIPTION:
DTSTART:20180301T103000
DTEND:20180301T230000
LOCATION:Lugano
ORGANIZER:MAILTO:BPW Ticino <info@bpw-ticino.ch>
SUMMARY:Dstribuzione borse Equal Pay Day e brochure BPW
END:VEVENT
END:VCALENDAR
