BEGIN:VCALENDAR
VERSION:2.0
PRODID:-//BPW Ticino//NONSGML kigkonsult.se iCalcreator 2.16.12//
METHOD:PUBLISH
X-MS-OLK-FORCEINSPECTOROPEN:TRUE
BEGIN:VEVENT
UID:20260423T013934CEST-7276ZSLvig@BPW Ticino
DTSTAMP:20260422T233934Z
DESCRIPTION:Siamo liete di proporre anche quest'anno la visita alla Fondazi
 one Matasci Arte e alla Collezione al Deposito\, organizzata dalla nostra 
 socia Linda Ghisla\, amica di Mario Matasci. Sarà lui stesso a guidarci at
 traverso la sua collezione di quadri ed opere raccolti in quarant'anni di 
 attività nel campo dell'Arte. \n\n\nLinda di lui ci racconta: 'Mario Matas
 ci è una persona squisita: oltre che enologo (Matasci Vini) è grande conos
 citore e collezionista d’arte. È un privilegio poter vedere i suoi quadri 
 con lui\, che spiegherà come è nata e cresciuta la sua collezione\, collez
 ione che Mario Botta ha definito “il più bel museo del nostro novecento”. 
 \n\nProgramma della visita - Domenica 15 aprile \n\nOre 10.00 ritrovo c/o 
 Matasci Vini\n\nvia Verbano 6\, 6598 Tenero \n\ndisponibile ampio parchegg
 io \n\nVisita allo spazio Matasci Arte \n\n*** \n\nOre 11.00\, spostamento
  presso \n\nDeposito Collezione Matasci\n\nFondazione Matasci per l’Arte 
 \n\nvia Riazzino 3 \n\na 300 metri dalla strada cantonale\, verso montagna
  \n\nCH – 6516 Cugnasco-Gerra (Ticino) \n\ndisponibile ampio parcheggio\n
 \nhttps://www.matasci-vini.ch/matasci-arte/la-collezione-al-deposito/\n\n*
 ** \n\nOre 13.00\, Linda sarà lieta di ospitarci per un aperitivo in segui
 to alla visita\n\nL'invito è aperto alle socie ed è esteso anche a famigli
 e e amici\, fino a un massimo di 12 partecipanti. \n\nVi preghiamo cortese
 mente di confermare la vostra partecipazione per e-mail a info@bpw-ticino.
 ch entro il 31 marzo 2018\n\n\nIn preparazione alla visita vi segnaliamo u
 n video ed alcuni articoli sulla vita di Mario Matasci e la sua collezione
  di opere:\n\n\n	la puntata di Storie 'Le scelte di Mario'\, trasmessa su R
 SI LA2 (dal minuto 40) \n	gli articoli \n\n\nhttp://www.caffe.ch/stories/cu
 ltura/31638_i_quadri_sono_un_po_come_i_figli/\n\nhttp://www.caffe.ch/stori
 es/fuori_dal_coro/52276_la_collezione_matasci_scuote_la_coscienza/\n\nhttp
 s://martebenicult.wordpress.com/2016/10/09/conversazione-col-collezionista
 -ticinese-mario-matasci/ \n\nVi aspettiamo per passare una domenica mattin
 a insieme all'insegna dell'Arte! \n\nIl comitato BPW Ticino \n
DTSTART:20180415T100000
DTEND:20180415T150000
LOCATION:Matasci Vini
ORGANIZER:MAILTO:BPW Ticino <info@bpw-ticino.ch>
SUMMARY:Visita Galleria d'arte Matasci
END:VEVENT
END:VCALENDAR
