BEGIN:VCALENDAR
VERSION:2.0
PRODID:-//BPW Ticino//NONSGML kigkonsult.se iCalcreator 2.16.12//
METHOD:PUBLISH
X-MS-OLK-FORCEINSPECTOROPEN:TRUE
BEGIN:VEVENT
UID:20260423T014405CEST-0617ieB0lv@BPW Ticino
DTSTAMP:20260422T234405Z
DESCRIPTION:Informazioni per le iscritte\n\n\n\n           \n\nORE\n09.00  
      Ritrovo in Piazza Manzoni a Lugano \n\n09.30       Imbarco sul battel
 lo dal debarcadero Lugano Centrale Lago e\n\n09.50       Partenza del batt
 ello\n\n11.00       Partenza della camminata da Melide\, piazza Fontana\n
 \n\nL'iscrizione comprende un pacco gara contenente:\n\n\n	Carta giornalier
 a Arcobaleno\, 2a classe\, tutte le zone\, valida il giorno dell’evento\, 
 inserita nel pettorale\n	pettorale personalizzato\, con numero\, nome (iscr
 izioni entro i termini)\, la distanza e ora di partenza\n	rilevamento preci
 so del tempo\, con i risultati pubblicati su internet la sera stessa dopo 
 l’evento\n	rifornimenti lungo il percorso\n	maglietta polo\, griffata Walkin
 g Lugano\n	servizio fotografico di FotoGarbani\n	servizio di pronto interven
 to sanitario lungo il percorso assicurato dai Samaritani e da Ticino Cuore
 \n	buoni sconto offerti dai partner\n\n\nDescrizione percorso:\n\nAndata in
  battello da Lugano a Melide e rientro a Lugano su uno splendido percorso 
 che costeggia interamente il lago da Melide a Lugano\, passando dalla stra
 da della forca di San Martino\, che per l’occasione sarà chiusa al traffic
 o motorizzato. Si arriva in battello a Melide\, in seguito si raggiunge a 
 piedi il luogo di partenza del percorso walking e nordic walking (Piazza D
 omenico Fontana\, situata vicino al campo sportivo). Partenza della cammin
 ata alle ore 11h 00 (assieme ai partecipanti iscritti al percorso “Melide”
 )\n\nAbbigliamento e attrezzatura consigliata:\n\nabbigliamento comodo da 
 passeggio\, mantellina antivento\, comode scarpe da ginnastica\, zainetto\
 , acqua\, cappellino in caso di sole\, e ovviamente... T-shirt BPW!\n\nPra
 nzo: \n\nin Piazza Rezzonico sarà allestita la ristorazione che offrirà pi
 atti tipici della tradizione ticinese\n\nPer maggiori dettagli potete visi
 tare il sito http://www.walkinglugano.ch o contattare la nostra socia Elis
 abetta Aiazzone\n \n\n\n \n\nINVITO\n\nCare Socie\,\n\nil giorno 08.04.201
 8 siete invitate a partecipare alla manifestazione sportiva\n\n'Walking Lu
 gano'\n \n\nL'invito è esteso anche a famigliari ed amici.\n\nSarà una bel
 la occasione per stare insieme sportivamente con le vostre famiglie\, bamb
 ini e amici quattro zampe.\n\nPercorso: Lake and Walking (con giro in batt
 ello Lugano – Melide e rientro a piedi)\n \n\nQui trovate la descrizione d
 el percorso\n\nhttp://www2.walkinglugano.ch/?page_id=62\n\nChiediamo genti
 lmente di completare il form per l'iscrizione.\n\nhttps://goo.gl/forms/bxE
 gYIRyN0kqLfKq1\n\n\nQuota di iscrizione: CHF 40.- singola per adulto\, da 
 pagare con bonifico sul conto CH36 0076 4434 6481 C001 C\; Banca Stato\, i
 ntestato a BWP Club Ticino - rubrica fondi\, indicando come motivo del ver
 samento 'Walking Lugano 2018'.\n\nIl termine per l'iscrizione e il pagamen
 to è il 28 febbraio p.v.\n\nSe partecipate con bambini\, richiedete le rid
 uzioni famiglia!\n\n \n\nQuesta è anche l’occasione per stampare delle t-s
 hirt con il logo BPW da usare nelle manifestazioni.\n\nCi piacerebbe che t
 utte voi ne acquistaste una: anche chi non partecipa a manifestazioni spor
 tive!! Perché noi tutte siamo BPW Ticino!!!\n\nIl prezzo indicativamente è
  di 20.- CHF l’una.\n \n\nPer ogni informazione vi invitiamo a contattare 
 la promotrice dell'evento Elisabetta Aiazzone \n
DTSTART:20180408T083000
DTEND:20180408T230000
LOCATION:Lugano
ORGANIZER:MAILTO:BPW Ticino <info@bpw-ticino.ch>
SUMMARY:Walking Lugano
END:VEVENT
END:VCALENDAR
