BEGIN:VCALENDAR
VERSION:2.0
PRODID:-//BPW Ticino//NONSGML kigkonsult.se iCalcreator 2.16.12//
METHOD:PUBLISH
X-MS-OLK-FORCEINSPECTOROPEN:TRUE
BEGIN:VEVENT
UID:20260423T031254CEST-29586LRGXE@BPW Ticino
DTSTAMP:20260423T011254Z
DESCRIPTION:C’est l’occasion pour les présidentes nouvellement élues de rec
 evoir les principales informations pour l’exercice de leur fonction.\n\npl
 an de situation de l'hôtel Astoria à Olten 
DTSTART:20180414T100000
DTEND:20180414T170000
LOCATION:Hotel Astoria Olten
ORGANIZER:MAILTO:BPW Ticino <info@bpw-ticino.ch>
SUMMARY:Formation des nouvelles présidentes
END:VEVENT
END:VCALENDAR
