BEGIN:VCALENDAR
VERSION:2.0
PRODID:-//BPW Ticino//NONSGML kigkonsult.se iCalcreator 2.16.12//
METHOD:PUBLISH
X-MS-OLK-FORCEINSPECTOROPEN:TRUE
BEGIN:VEVENT
UID:20260423T001751CEST-5545tdZAxW@BPW Ticino
DTSTAMP:20260422T221751Z
DESCRIPTION:\nPlease find all information and the registration on this link
 .\n\n
DTSTART:20190524T000000
DTEND:20190526T235900
LOCATION:Galway (Irlanda)
ORGANIZER:MAILTO:BPW Ticino <info@bpw-ticino.ch>
SUMMARY:16th BPW European Conference Galway 2019
END:VEVENT
END:VCALENDAR
