BEGIN:VCALENDAR
VERSION:2.0
PRODID:-//BPW Ticino//NONSGML kigkonsult.se iCalcreator 2.16.12//
METHOD:PUBLISH
X-MS-OLK-FORCEINSPECTOROPEN:TRUE
BEGIN:VEVENT
UID:20260422T224109CEST-7214ir3TjP@BPW Ticino
DTSTAMP:20260422T204109Z
DESCRIPTION:\n\n\nThe XXX BPW International Congress „BPW International in 
 Orlando\, Florida\, USA from 21 – 26 August 2020\n\nAll BPW member are inv
 ited to visit the XXX BPW International Congress at the Hilton Orlando Lak
 e BuenaVista Hotel in Orlando Florida\, 1751 Hotel Plaza Blvd. Lake Buena 
 Vista\, Florida\, USA.\n\nOnline Congress registration will officially ope
 n on 10 February 2020.\n\nThis congress will be historical as it will mark
  the 90th Anniversary of BPW International.\n\nAll the informations regard
 ig congress will be at the Orlando Congress website.\n\n\n\n\n
DTSTART:20200821T000000
DTEND:20200826T235900
LOCATION:Orlando (Florida)\, Hilton Hotel Lake Buena Vista
ORGANIZER:MAILTO:BPW Ticino <info@bpw-ticino.ch>
SUMMARY:XXX BPW INTERNATIONAL CONGRESS
END:VEVENT
END:VCALENDAR
