BEGIN:VCALENDAR
VERSION:2.0
PRODID:-//BPW Ticino//NONSGML kigkonsult.se iCalcreator 2.16.12//
METHOD:PUBLISH
X-MS-OLK-FORCEINSPECTOROPEN:TRUE
BEGIN:VEVENT
UID:20260423T002206CEST-1216wkV6Ku@BPW Ticino
DTSTAMP:20260422T222206Z
DESCRIPTION:\n\n\n\n\n\n\nLiebe BPW\n\nWir freuen uns\, Dich zur 6. BPW Gol
 f Trophy nach Oberkirch einzuladen. Es erwartet Dich ein gemütlicher Golft
 ag.\n \n\n\n	\n		\n			Datum\n			Freitag\, 24. August 2018\n		\n		\n			Turnierstart\n			ca. 09
 .30 Uhr\, Einfindungszeit 1h vor Abschlag\n		\n		\n			Kosten\n			CHF 150 – Greenfee\
 , Nenngeld\, Zwischenverpflegung\, Apéro und Essen (ohne Getränke während 
 des Essens)\n		\n		\n			Spielform\n			18-Loch\, Stableford\, vorgabewirksam\, bei ge
 nügend Anmeldungen zwei (2) Kategorien\n		\n		\n			Spielberechtigt\n			BPW Mitgliede
 r und eingeschriebene BPW Interessentinnen mit einem gültigen HCP sowie mi
 t anerkannter Clubmitgliedschaft\n		\n		\n			Preisverleihung  \n			während des Essen
 s\n		\n		\n			Essen\n			1 Stunde nach Eintreffen des letztes Flights\n		\n		\n			Preise\n			1 
 x Brutto / 3 x Netto / Longest Drive / Nearest to the pin\n		\n		\n			Anfahrt\n			Go
 lfpark Oberkirch\, am Hofbach 1\, 6208 Oberkirch\, Sekretariat Tel 041 925
  24 50\n		\n		\n			Anmeldung\n			Name/Vorname/Adresse/HCP/BPW Club/ mail@judithbaumb
 erger.ch\n		\n		\n			Organisation\n			Barbara – Corinne – Judith – Elisabeth \n		\n	\n
 \n
DTSTART:20180824T000000
DTEND:20180824T235900
LOCATION:Oberkirch LU
ORGANIZER:MAILTO:BPW Ticino <info@bpw-ticino.ch>
SUMMARY:6. BPW Golf Trophy in Oberkirch
END:VEVENT
END:VCALENDAR
