BEGIN:VCALENDAR
VERSION:2.0
PRODID:-//BPW Ticino//NONSGML kigkonsult.se iCalcreator 2.16.12//
METHOD:PUBLISH
X-MS-OLK-FORCEINSPECTOROPEN:TRUE
BEGIN:VEVENT
UID:20260423T001950CEST-6064djP62n@BPW Ticino
DTSTAMP:20260422T221950Z
DESCRIPTION:Business and Professional Women Germany e.V. lädt Sie herzlich 
 zur D-A-CH Tagung in Weiler im Allgäu ein:\n\nArbeit hoch 4 oder Karriere 
 4.0. Wie Frauen die digitale Zukunft gestalten\n\nUnter dem Motto 'Arbeite
 n hoch 4 oder Karriere 4.0. Wie Frauen die digitale Zukunft gestalten.' be
 leuchten am Samstag Expertinnen Chancen und Herausforderungen der Digitali
 sierung für Arbeit und Leben.\n\nIn Workshops wird der Umgang mit den digi
 talen Medien praktisch erprobt und im länderübergreifenden Austausch inten
 siv genetzwerkt – offline und ganz real. Am Sonntag werden Wissen und Idee
 n für die überregionale Zusammenarbeit ausgetauscht\, erarbeitet oder scho
 n überregionale Projektgruppen gestartet.\n\nAls Keynote Speaker freuen wi
 r uns auf Dr. Monique R. Siegel (Trendforscherin und Expertin für den Fema
 le Shift und Wirtschaftsethik) sowie Dr. Annette Niederfranken (Director R
 epresentation in Germany International Labour Organization ILO).\n\n\nFrei
 tag       \nab 18 Uhr                Registrierung\n19:oo Uhr             
    Begrüßung zur D-A-CH Tagung mit Networking Dinner\n\nSamstag:   \nab 8 
 Uhr                   Registrierung\n9:00 – 17:30 Uhr     D-A-CH Tagung mi
 t Keynotes und Workshops rund um die Digitalisierung\n19:30 Uhr           
      Galadinner\n\nSonntag:   \n9:00 – 12:30 Uhr      BPW Toolbox – Nützli
 ches für die (überregionale) Zusammenarbeit\n12:30 – 14:00 Uhr    Mittages
 sen\n\nDie Themen für die Workshops reichen von Datenschutz\, über Social 
 Media Plattformen (Zukunft\, Nutzung\, Gestaltung) bis zu digitalem Stress
 management. Am Sonntag geht es um Meeting Planung und die Teilnahme an der
  EU Code Week.\n\nWeitere Informationen sowie die Anmeldung finden Sie hie
 r\n
DTSTART:20180615T000000
DTEND:20180617T235900
LOCATION:Weiler-Simmerberg\, Hotel Tannenhof
ORGANIZER:MAILTO:BPW Ticino <info@bpw-ticino.ch>
SUMMARY:D-A-CH-Treffen
END:VEVENT
END:VCALENDAR
