BEGIN:VCALENDAR
VERSION:2.0
PRODID:-//BPW Ticino//NONSGML kigkonsult.se iCalcreator 2.16.12//
METHOD:PUBLISH
X-MS-OLK-FORCEINSPECTOROPEN:TRUE
BEGIN:VEVENT
UID:20260423T014237CEST-2310rvsVsB@BPW Ticino
DTSTAMP:20260422T234237Z
DESCRIPTION:\n\nEQUAL PAY DAY\n\n\n\nCare Socie\,\n\nLe donne svizzere guad
 agnano ancora il 15.1% in meno dei loro colleghi di sesso maschile\; devon
 o cioè lavorare il 15.1% in più\, 55 giorni di calendario\, per lo stesso 
 salario che\, a parità di funzioni e responsabilità\, i colleghi uomini ha
 nno già maturato al 31 dicembre.\n\nIl BPW Club Ticino vi invita \n \n\nGi
 ovedì 1° marzo 2018 dalle ore 17:30 alle ore 19:30\n\na Lugano in piazza D
 ante. \n\n \n\nAvremo uno stand\, spiegheremo cos’è l’EPD e per cosa ci ba
 ttiamo\, distribuiremo i sacchetti EPD e l’argomentario che fornisce infor
 mazioni dettagliate. \n\n \n\nCi farebbe molto piacere se poteste partecip
 are numerose! \n\nPer motivi organizzativi\, è gradita la conferma per e-m
 ail.\n
DTSTART:20180224T000000
DTEND:20180224T235900
ORGANIZER:MAILTO:BPW Ticino <info@bpw-ticino.ch>
SUMMARY:Equal Pay Day 2018
END:VEVENT
END:VCALENDAR
