BEGIN:VCALENDAR
VERSION:2.0
PRODID:-//BPW Ticino//NONSGML kigkonsult.se iCalcreator 2.16.12//
METHOD:PUBLISH
X-MS-OLK-FORCEINSPECTOROPEN:TRUE
BEGIN:VEVENT
UID:20260423T014056CEST-9478UCwiL1@BPW Ticino
DTSTAMP:20260422T234056Z
DESCRIPTION:\n\nL’Assemblea Ordinaria del BPW CLUB Ticino è convocata per m
 artedi 30 gennaio 2018 alle ore 18.15 \npresso l’Hotel Pestalozzi\, piazza
  Indipendenza 9\, 6900\, Lugano (www.pestalozzi-lugano.ch).\n \nRicordiamo
  che la partecipazione all'Assemplea è obbligatoria. Qualora una Socia fos
 se impossibilitata a presenziare\, è pregata di darne comunicazione  e con
 testualmente delegare  una  rappresentante  via mail  all'indirizzo  info@
 bpw-ticino.ch\,  con copia a Gaia Marniga (gaia.marniga@gmail.com) \, entr
 o il 24 gennaio 2018.\n \n**Le nuove Socie sono invitate a scegliere e com
 unicare il nome della Madrina che avrà il compito di presentarle all’Assem
 blea**.\n \nLe Socie uscenti  potranno partecipare all'Assemblea o delegar
 e una rappresentante\, ritenuto che le loro dimissioni verranno in quel co
 ntesto ratificate.\n \nA tutte le socie sono stati trasmessi per e-mail: 
 \n \n\n	Verbale dell’Assemblea 2017 \n	Ordine del Giorno\n\n \nDopo l’Assemb
 lea\, come da tradizione\, vi è la possibilità di cenare insieme.\nQuest'a
 nno l'appuntamento per la cena è al Ristorante Cyrano che rimane a pochi p
 assi dall’Hotel Pestalozzi.\nLe socie che si fermeranno a cena sono invita
 te a comunicare per e-mail a info@bpw-ticino.ch la propria scelta tra un m
 enù tradizionale (con carne) e uno vegetariano (con pesce).\n\n\nParcheggi
  disponibili (a pagamento) nell'autosilo del Palazzo dei Congressi
DTSTART:20180130T180000
DTEND:20180130T003000
LOCATION:Hotel Pestalozzi
ORGANIZER:MAILTO:BPW Ticino <info@bpw-ticino.ch>
SUMMARY:Assemblea annuale 2018
END:VEVENT
END:VCALENDAR
