BEGIN:VCALENDAR
VERSION:2.0
PRODID:-//BPW Ticino//NONSGML kigkonsult.se iCalcreator 2.16.12//
METHOD:PUBLISH
X-MS-OLK-FORCEINSPECTOROPEN:TRUE
BEGIN:VEVENT
UID:20260423T013935CEST-5527Gj13CJ@BPW Ticino
DTSTAMP:20260422T233935Z
DESCRIPTION:\nCome ogni anno il BPW Club Ticino celebra l’appuntamento più 
 importante della nostra associazione\, “La Cerimonia Internazionale delle 
 Candele”. Istituita dalla fondatrice del BPW\, Lena Madesin Phillips\, dur
 ante la seconda guerra mondiale - la Cerimonia delle Candele simboleggia l
 a solidarietà femminile a livello mondiale. Ogni anno\, tra febbraio e mar
 zo è celebrata dai Club BPW di tutto il mondo. Si tratta di una serata dal
 l’atmosfera suggestiva\, che riunisce tutti i club in un simbolico abbracc
 io per ricordare le ambizioni e l’opera delle donne impegnate in ogni part
 e del globo.\n\nLa serata è aperta anche alle amiche e agli amici del nost
 ro Club. \n\nPer motivi organizzativi vi preghiamo gentilmente di volerci 
 comunicare la vostra partecipazione e il tipo di menu desiderato entro e n
 on oltre il 19 febbraio 2018 inviando un'e-mail a info@bpw-ticino.ch.\n\nL
 ’Hotel dispone di un ampio parcheggio.\n\n\n\n\n\n\n\nMENU\n\n\n
DTSTART:20180222T190000
DTEND:20180222T233000
LOCATION:Hotel De La Paix
ORGANIZER:MAILTO:BPW Ticino <info@bpw-ticino.ch>
SUMMARY:Cena delle Candele 2018
END:VEVENT
END:VCALENDAR
