BEGIN:VCALENDAR
VERSION:2.0
PRODID:-//BPW Ticino//NONSGML kigkonsult.se iCalcreator 2.16.12//
METHOD:PUBLISH
X-MS-OLK-FORCEINSPECTOROPEN:TRUE
BEGIN:VEVENT
UID:20260423T014517CEST-9154AnFmbA@BPW Ticino
DTSTAMP:20260422T234517Z
DESCRIPTION:\n\nCarissime socie e amiche del BPW Club Ticino\n\n \n\nL'ulti
 mo appuntamento del 2017 con l'evento dedicato ad approfondire la conoscen
 za delle socie BPW Club Ticino \nsi svolgerà\n\ngiovedì 9 novembre alle 17
 .30\npresso la sede messa a disposizione dalla nostra socia Federica Guerr
 a \n\nTI Traduce\, via Balestra 7\, Lugano\n\nIn quest'occasione si presen
 teranno Simona Bregoli\, Beatrice Engeler\, Isabella Steiger Felder e Marg
 aret De Lorenzi\n\n \n\nAl termine della presentazione\, seguirà un aperit
 ivo  \n\n \n\n \n\nConfermate cortesemente il prima possibile la vostra pa
 rtecipazione tramite e-mail a info@bpw-ticino.ch\n\n \n\nVi aspettiamo num
 erose \n\n \n\n \n\n\n
DTSTART:20171109T173000
DTEND:20171109T190000
LOCATION:c/o TI Traduce
ORGANIZER:MAILTO:BPW Ticino <info@bpw-ticino.ch>
SUMMARY:Presentazione nuove socie
END:VEVENT
END:VCALENDAR
