BEGIN:VCALENDAR
VERSION:2.0
PRODID:-//BPW Ticino//NONSGML kigkonsult.se iCalcreator 2.16.12//
METHOD:PUBLISH
X-MS-OLK-FORCEINSPECTOROPEN:TRUE
BEGIN:VEVENT
UID:20260423T014103CEST-2791Isu3Jd@BPW Ticino
DTSTAMP:20260422T234103Z
DESCRIPTION:\n	\n		\n			Sichtweisen - Erfahrungen - Podiumsgespräch\n			Wie Männer f
 ür Frauen zu Türöffnern werden können.\n		\n		\n			 \n		\n		\n			Frauen sind in Führungs
 gremien immer noch markant untervertreten. Das Potenzial an weiblichen Füh
 rungskräften wird nicht ausgeschöpft\, obwohl eine grössere Vertretung von
  Frauen in den Führungsgremien zu einer besseren Performance der Unternehm
 ung führt (McKinsey-Report 'Women matter') und damit ein wichtiger Faktor 
 für den langfristigen Erfolg einer Unternehmung sein kann.\n			Dies soll sich
  ändern. Der Bundesrat will\, dass die grossen Schweizer Unternehmen bis 2
 020 in ihren Geschäftsleitungen 20 % Frauen und in ihren Verwaltungsräten 
 30 % Frauen haben – oder sonst erklären\, weshalb sie dieses Ziel nicht er
 reichen.\n			Dieses Ziel kann nur in Kooperation mit Männern erreicht werden.
  Es braucht einen Dialog auf Augenhöhe: Was können Männer tun\, um für Fra
 uen zu Türöffnern zu werden? Was können Frauen tun\, wenn sie auf einen Ma
 nn als Türsteher stossen?\n		\n		\n			 \n		\n		\n			Programm\n			18 Uhr     Eintreffen der 
 Gäste und Apéro\n			19 Uhr     Keynote Sita Mazumder\n			                Podiums
 gespräch mit Sita Mazumder\,\n			                Urs Schenker und Hans Hess\n
 			                Moderation: Zita Küng\n			21 Uhr    Austausch und Networking​
 \n		\n		\n			 \n		\n		\n			\n			Sita Mazumder\, Professorin Informatik und Wirtschaft\, Unt
 ernehmerin\, Verwaltungsrätin\n			\n			​Sie hat 2006 das schweizweit erfolgreich
 e Genderprogramm «Women's Business» an der Hochschule Luzern gegründet und
  geht – auch in Bezug auf Genderfragen – als Teil der Veränderung stets mi
 t gutem Beispiel voran. Welche Erfahrungen hat sie gemacht\, welche erfolg
 reichen Kooperationen mit Männern erlebt – und welches sind aus ihrer Sich
 t die Erfolgsfaktoren dafür?\n		\n		\n			 \n			 \n		\n		\n			\n			Urs Schenker\, Prof. Dr. iur
 . LL.M\, Rechtsanwalt\, Walder Wyss Rechtsanwälte\n			\n			Urs Schenker zählt zu
  den führenden Wirtschaftsanwälten der Schweiz und verfügt über\n			profunde 
 Einblicke in die Schweizer Wirtschaft. Er befürwortet die bundesrätliche Q
 uotenregelung und sieht darin eine Türöffnung mit klarem Anreiz für qualif
 izierte Frauen\, sich für Führungspositionen ins Gespräch zu bringen. So k
 önne das gesamte Potenzial an Führungskräften in der Schweiz genutzt werde
 n.\n		\n		\n			 \n			 \n		\n		\n			\n			Hans Hess\, dipl. Werkstoff-Ing.\, MBA\, Präsident von
  Swissmem und Vizepräsident economiesuisse\n			\n			Die Maschinen-\, Elektro- un
 d Metall-Industrie gilt als hochtechnologisiertes Feld mit 'traditionsgemä
 ss' nur wenigen Frauen in führenden Positionen. Was unternimmt der grösste
  Schweizer Industrieverband Swissmem zur Förderung eines höheren Frauenant
 eils? Und: Werden die Männer in der Branche als mögliche Türsteher und -öf
 fner bewusst angesprochen?\n		\n		\n			 \n			 \n		\n		\n			\n			Zita Küng\, Moderation\n			\n			Die 
 Juristin und Organisationsberaterin Zita Küng ist Inhaberin von EQuality u
 nd Vorstandsmitglied der Juristinnen Schweiz. Sie arbeitet als Führungskrä
 ftecoach für Potenzialentwicklung\, Selbstmanagement und Karrierestrategie
 n\, insbesondere in der Nachwuchsförderung von weiblichen High Potentials.
 \n		\n		\n			 \n		\n		\n			Eine Veranstaltung für\n			​Frauen und Männer in Führungsfunktio
 nen oder auf dem Weg dazu\, die sich über anstehende Veränderungen informi
 eren möchten\n			​Verwaltungsratsmitglieder und CEOs\, die den Frauenanteil i
 n ihrem Unternehmen erhöhen möchten oder die eine Frauenquote zu erfüllen 
 haben\n			​Consultants\, die Unternehmen bei der Besetzung von Verwaltungsrat
 smandaten und Kaderpositionen unterstützen oder in ihrem Kulturwandel begl
 eiten\n		\n		\n			 \n		\n		\n			Eine gemeinsame Veranstaltung von \n			BPW SWITZERLAND Busi
 ness & Professional Women\, www.frauenanbord.ch Bank Kader Verein Zürich B
 KV\, JURISTINNEN SCHWEIZ\, Schweizer Kader Organisation SKO\n		\n		\n			 \n		\n		\n			Pr
 eis \n			CHF 40    für Mitglieder BPW\, BKV\, Juristinnen Schweiz\, SKO\n			CHF 
 60    für Nicht-Mitglieder\n		\n		\n			 \n		\n		\n			Anfahrt\n			ÖV:          Tram bis Halt
 estelle Schiffbau oder Zug bis Bahnhof Zürich Hardbrücke\n			Auto:        Par
 khaus Pfingstweid\n		\n	\n\n\n&amp\;amp\;amp\;amp\;amp\;amp\;amp\;amp\;lt\;p&
 amp\;amp\;amp\;amp\;amp\;amp\;amp\;amp\;gt\;Diese Seite ben&amp\;amp\;amp\
 ;amp\;amp\;amp\;amp\;amp\;ouml\;tigt die Unterst&amp\;amp\;amp\;amp\;amp\;
 amp\;amp\;amp\;uuml\;tzung von Frames durch Ihren Browser. Bitte nutzen Si
 e einen Browser\, der die Darstellung von Frames unterst&amp\;amp\;amp\;am
 p\;amp\;amp\;amp\;amp\;uuml\;tzt\, damit das Ticketvorverkaufs-Modul angez
 eigt werden kann.&amp\;amp\;amp\;amp\;amp\;amp\;amp\;amp\;lt\;/p&amp\;amp\
 ;amp\;amp\;amp\;amp\;amp\;amp\;gt\;&amp\;amp\;amp\;amp\;amp\;amp\;amp\;amp
 \;lt\;p&amp\;amp\;amp\;amp\;amp\;amp\;amp\;amp\;gt\;Probieren Sie die XING
  Events &amp\;amp\;amp\;amp\;amp\;amp\;amp\;amp\;lt\;a data-cke-saved-href
 =&amp\;amp\;amp\;amp\;amp\;amp\;amp\;amp\;quot\;https://www.xing-events.co
 m&amp\;amp\;amp\;amp\;amp\;amp\;amp\;amp\;quot\; href=&amp\;amp\;amp\;amp\
 ;amp\;amp\;amp\;amp\;quot\;https://www.xing-events.com&amp\;amp\;amp\;amp\
 ;amp\;amp\;amp\;amp\;quot\;&amp\;amp\;amp\;amp\;amp\;amp\;amp\;amp\;gt\;on
 line Registrierung&amp\;amp\;amp\;amp\;amp\;amp\;amp\;amp\;lt\;/a&amp\;amp
 \;amp\;amp\;amp\;amp\;amp\;amp\;gt\; noch heute aus.&amp\;amp\;amp\;amp\;a
 mp\;amp\;amp\;amp\;lt\;/p&amp\;amp\;amp\;amp\;amp\;amp\;amp\;amp\;gt\;\n\n
 Online Event Management mit der Ticketing-Lösung von XING Events\n
DTSTART:20170503T180000
DTEND:20170503T220000
LOCATION:Zürich\, Steinfels Areal\, Zürcher Kantonalbank ZKB
ORGANIZER:MAILTO:BPW Ticino <info@bpw-ticino.ch>
SUMMARY:Frauen an Bord - Dialog auf der Brücke
END:VEVENT
END:VCALENDAR
