BEGIN:VCALENDAR
VERSION:2.0
PRODID:-//BPW Ticino//NONSGML kigkonsult.se iCalcreator 2.16.12//
METHOD:PUBLISH
X-MS-OLK-FORCEINSPECTOROPEN:TRUE
BEGIN:VEVENT
UID:20260423T014410CEST-7122Wevavi@BPW Ticino
DTSTAMP:20260422T234410Z
DESCRIPTION:
DTSTART:20170307T170000
DTEND:20170307T190000
LOCATION:Lugano\, SWICA
ORGANIZER:MAILTO:BPW Ticino <info@bpw-ticino.ch>
SUMMARY:Riunione di comitato aperta alle socie
END:VEVENT
END:VCALENDAR
