BEGIN:VCALENDAR
VERSION:2.0
PRODID:-//BPW Ticino//NONSGML kigkonsult.se iCalcreator 2.16.12//
METHOD:PUBLISH
X-MS-OLK-FORCEINSPECTOROPEN:TRUE
BEGIN:VEVENT
UID:20260423T014404CEST-5636vpUIpt@BPW Ticino
DTSTAMP:20260422T234404Z
DESCRIPTION:\n \n \n\nLa tradizionale cena di Natale organizzata\ndal BPW C
 lub Ticino si terrà \n\nvenerdì 1 dicembre 2017 alle ore 19.00\n\n al rist
 orante Al Barilotto (Hotel De La Paix)\, \n\nvia Cattori 18\, 6900 Lugano 
  www.ristorante-al-barilotto.ch\n \n\nSarà l’occasione per trascorrere una
  bella serata insieme \n\ne scambiarci gli auguri.\n \n\nVi invitiamo a co
 nfermare la vostra presenza \n\ne quella dei vostri accompagnatori.\n \n\n
  Vi preghiamo\, inoltre\, di comunicare eventuali intolleranze alimentari 
 \n\ne la scelta del menù (tradizionale o vegetariano) entro il 24 novembre
 \, \n\ntramite e-mail all’indirizzo  info@bpw-ticino.ch\n\n\nIl ristorante
  è dotato di parcheggio libero.\n\nVi aspettiamo numerose.\n\n \n\n
DTSTART:20171201T190000
DTEND:20171201T230000
LOCATION:Hotel De La Paix\, Ristorante al Barilotto
ORGANIZER:MAILTO:BPW Ticino <info@bpw-ticino.ch>
SUMMARY:Cena di Natale
END:VEVENT
END:VCALENDAR
