BEGIN:VCALENDAR
VERSION:2.0
PRODID:-//BPW Ticino//NONSGML kigkonsult.se iCalcreator 2.16.12//
METHOD:PUBLISH
X-MS-OLK-FORCEINSPECTOROPEN:TRUE
BEGIN:VEVENT
UID:20260423T013934CEST-4874XTdkPw@BPW Ticino
DTSTAMP:20260422T233934Z
DESCRIPTION:\n	\n		\n			 \n		\n		\n			 \n			 \n		\n	\n\n\n\n\n\nScaricare l'invito in formato 
 PDF
DTSTART:20171203T140000
DTEND:20171203T180000
LOCATION:Sala Tre Vele\, Fondazione OTAF - Sorengo  
ORGANIZER:MAILTO:BPW Ticino <info@bpw-ticino.ch>
SUMMARY:Disabili siamo tutti. Dall’assistenza all’inclusione
END:VEVENT
END:VCALENDAR
