BEGIN:VCALENDAR
VERSION:2.0
PRODID:-//BPW Ticino//NONSGML kigkonsult.se iCalcreator 2.16.12//
METHOD:PUBLISH
X-MS-OLK-FORCEINSPECTOROPEN:TRUE
BEGIN:VEVENT
UID:20260423T014010CEST-2853CUKekj@BPW Ticino
DTSTAMP:20260422T234010Z
DESCRIPTION:
DTSTART:20171001T000000
DTEND:20171001T235900
ORGANIZER:MAILTO:BPW Ticino <info@bpw-ticino.ch>
SUMMARY:Evento BPW Young
END:VEVENT
END:VCALENDAR
