BEGIN:VCALENDAR
VERSION:2.0
PRODID:-//BPW Ticino//NONSGML kigkonsult.se iCalcreator 2.16.12//
METHOD:PUBLISH
X-MS-OLK-FORCEINSPECTOROPEN:TRUE
BEGIN:VEVENT
UID:20260423T014134CEST-46204VIrIN@BPW Ticino
DTSTAMP:20260422T234134Z
DESCRIPTION:\nTutte le socie sono invitate a partecipare all'incontro di ge
 mellaggio tra il nostro club e quello di Coira\n \n\n\nPer questo simpatic
 o evento abbiamo previsto una visita guidata al LAC di Lugano\, cui segue 
 trasferta in barca per il pranzo al Grotto dei pescatori di Caprino.\n\nPr
 ogramma\n \n\n\n	10:00 Ritrovo davanti al LAC    parcheggio LAC\n\n \n\n\n	1
 0:15 VISITA GUIDATA DELLA STRUTTURA DEL LAC\n\nLa visita comprende una vis
 ione degli spazi della struttura (Hall\, Agorà e Giardino Botanico)\, con 
 una spiegazione storica\, artistica e architettonica legata al progetto LA
 C e agli edifici circostanti\, importanti per la storia della Città di Lug
 ano (ex Grand Hotel Palace\, Chiostro di Santa Maria degli Angioli e Chies
 a di Santa Maria degli Angioli).\n \n\n	12.00 Taxi boat da imbarcadero del 
 LAC al Grotto dei pescatori\n	 12.30 circa PRANZO AL GROTTO           \n\n 
 \n\n\n	14:30 Rientro in taxi boat\n\n \n\n\n	15:00 Passeggiata nel Centro di
  Lugano\n\n \n\n\n	Dalle 16:00 Rientro a seconda delle singole esigenze\n\n
 Il costo previsto è di CHF 70.- a persona.\nVi preghiamo di comunicare la 
 vostra presenza per e-mail a:\neventi@bpw-ticino.ch entro il 10 settembre 
 2017\nIn attesa delle vostre conferme porgiamo i nostri più cordiali salut
 i.\nIl Comitato del BPW Club Ticino 
DTSTART:20170916T000000
DTEND:20170916T235900
LOCATION:Lugano e Caprino
ORGANIZER:MAILTO:BPW Ticino <info@bpw-ticino.ch>
SUMMARY:Gemellaggio BPW Grigioni Chur
END:VEVENT
END:VCALENDAR
