BEGIN:VCALENDAR
VERSION:2.0
PRODID:-//BPW Ticino//NONSGML kigkonsult.se iCalcreator 2.16.12//
METHOD:PUBLISH
X-MS-OLK-FORCEINSPECTOROPEN:TRUE
BEGIN:VEVENT
UID:20260423T014226CEST-6355l3zimx@BPW Ticino
DTSTAMP:20260422T234226Z
DESCRIPTION:Carissime socie e amiche del BPW Club Ticino\,\n\ncome ogni ann
 o\, desideriamo organizzare un momento  conviviale per  dare il benvenuto 
 alle nostre nuove \n\nsocie e conoscerle meglio. \n\n \n\nIl secondo appun
 tamento del 2017 è fissato il giorno 25 agosto alle ore 17.30 presso la se
 de del nostro Club. \n\nSi presenteranno le socie Elisabetta Aiazzone\, Si
 mona Bregoli\, Marika Congestrì e Vaccani Patrizia.  \n\nAl termine della 
 presentazione seguirà un aperitivo (location da definire).\n\n \n\nSe dove
 ssero esserci altre socie entrate nel club durante gli anni precedenti\, i
 nteressate alla presentazione personale\, vi chiediamo di comunicarcelo a 
 breve per permettere l'organizzazione.\n\n \n\nVi chiediamo inoltre gentil
 mente\, di confermarci il prima possibile la vostra partecipazione.\n\n \n
 \nVi aspettiamo numerose \n\n \n\nTeam segreteria \n\nBPW Club Ticino\n
DTSTART:20170825T180000
DTEND:20170825T210000
ORGANIZER:MAILTO:BPW Ticino <info@bpw-ticino.ch>
SUMMARY:Presentazione nuove socie
END:VEVENT
END:VCALENDAR
