BEGIN:VCALENDAR
VERSION:2.0
PRODID:-//BPW Ticino//NONSGML kigkonsult.se iCalcreator 2.16.12//
METHOD:PUBLISH
X-MS-OLK-FORCEINSPECTOROPEN:TRUE
BEGIN:VEVENT
UID:20260423T014031CEST-8138LwUTuR@BPW Ticino
DTSTAMP:20260422T234031Z
DESCRIPTION:Evento dedicato esclusivamente alle Socie\n\nIl BPW Ticino orga
 nizza tre serate interattive per rendere più performante il nostro databas
 e e potenziare lo scambio nazionale e internazionale tra le socie.\n \nLe 
 date sono: 4 luglio\, 7 settembre e 9 ottobre 2017\na partire dalle ore 17
 :00.\n\n\nVi invitiamo a confermare la vostra partecipazione a una delle s
 erate\, inviando un e-mail a\n \ninfo@bpw-ticino.ch\n\n\nPer aggiornare il
  database\, Joana Torres del comitato centrale\, responsabile per le socie
  e ideatrice di tale evento\, ci guiderà virtualmente in un percorso di “r
 estyling” dei nostri profili\, affinché possiamo esprimere il meglio di no
 i stesse e realizzare un piccolo LinkedIn BPW. A questo scopo avremo a dis
 posizione:\n \n\n	truccatrice professionista\n	affermata parrucchiera\n	fotog
 rafo/a esperto/a\n	webmaster e segretaria BPW Ticino\n\n \nLe nostra socia 
 e vice presidente Gaia Marniga metterà a disposizione la location:\n \nStu
 dio IME Helvetia\, via S. Balestra 9\, 6900 Lugano\n \nPer far sì che tutt
 o proceda per il verso giusto e si raggiunga l’obiettivo desiderato è nece
 ssario che ogni socia abbia:\n \n\n	possibilità di accedere al proprio prof
 ilo BPW (se sprovviste di password\, potete richiederne una tramite il lin
 k http://bpw.ch/index.php?page=708 almeno il giorno prima della data scelt
 a per la partecipazione all'evento)\n\n -       possibilità di accedere al
  proprio account di posta elettronica\n\n\n	 chiavetta USB contenente il pr
 oprio CV il più aggiornato possibile\n\n \nSeguirà Aperitivo\n \nPer motiv
 i organizzativi vi preghiamo di confermarci la vostra partecipazione in un
 a delle date sopraccitate entro il 20.06.2017. Il contributo per la serata
  “all inclusive” è di fr. 20.--
DTSTART:20170704T170000
DTEND:20170704T210000
LOCATION:Studio IME Helvetia\, Lugano
ORGANIZER:MAILTO:BPW Ticino <info@bpw-ticino.ch>
SUMMARY:Profile Party Kit
END:VEVENT
END:VCALENDAR
