BEGIN:VCALENDAR
VERSION:2.0
PRODID:-//BPW Ticino//NONSGML kigkonsult.se iCalcreator 2.16.12//
METHOD:PUBLISH
X-MS-OLK-FORCEINSPECTOROPEN:TRUE
BEGIN:VEVENT
UID:20260423T014150CEST-8928DlPG51@BPW Ticino
DTSTAMP:20260422T234150Z
DESCRIPTION:Carissime socie e amiche del BPW Club Ticino\,\n\ncome ogni ann
 o\, desideriamo organizzare un momento  conviviale per  dare il benvenuto 
 alle nostre nuove \n\nsocie e conoscerle meglio. \n\nIl primo appuntamento
  sarà il giorno 07 giugno alle ore 17.30 presso la sede del nostro Club \n
 \n(c/o Swica via Cantonale 10 Lugano).\n\nIn questa occasione si presenter
 anno le nuove socie  Ilaria Besozzi\, Monica Pugnaloni e Myriam Spinelli.
 \n\n \n\nAl termine della presentazione\, seguirà un aperitivo presso il C
 lass Cafè in corso Pestalozzi 3\, Lugano. \n\nSarà anche un'occasione per 
 stare insieme e salutarci prima dell'inizio delle vacanze estive.\n\n \n\n
  \n\nSe dovessero esserci altre socie entrate nel club durante gli anni pr
 ecedenti\, interessate alla presentazione personale\, vi chiediamo di comu
 nicarcelo a breve per permettere l'organizzazione.\n\n \n\nVi chiediamo in
 oltre gentilmente\, di confermarci il prima possibile la vostra partecipaz
 ione.\n\n \n\nVi aspettiamo numerose \n\n \n\nTeam segreteria \n\nBPW Club
  Ticino\n
DTSTART:20170607T180000
DTEND:20170607T210000
LOCATION:c/o SWICA
ORGANIZER:MAILTO:BPW Ticino <info@bpw-ticino.ch>
SUMMARY:Presentazione nuove socie
END:VEVENT
END:VCALENDAR
