BEGIN:VCALENDAR
VERSION:2.0
PRODID:-//BPW Ticino//NONSGML kigkonsult.se iCalcreator 2.16.12//
METHOD:PUBLISH
X-MS-OLK-FORCEINSPECTOROPEN:TRUE
BEGIN:VEVENT
UID:20260423T014010CEST-7572aPo57X@BPW Ticino
DTSTAMP:20260422T234010Z
DESCRIPTION:Evento dedicato esclusivamente alle Socie\n \n\n\n\n \n \n\n \n
 \n\n\n\n\n\n\n\n\nIl BPW Ticino organizza tre serate interattive per rende
 re più performante\nil nostro database e potenziare lo scambio nazionale e
  internazionale tra le socie.\n \nLe date sono: 4 luglio\, 7 settembre e 9
  ottobre 2017\na partire dalle ore 17:00.\n\n\nVi invitiamo a confermare l
 a vostra partecipazione a una delle serate\, inviando un e-mail a\n \ninfo
 @bpw-ticino.ch\n\n\nPer aggiornare il database\, Joana Torres del comitato
  centrale\, responsabile per le socie e ideatrice di tale evento\,\nci gui
 derà virtualmente in un percorso di “restyling” dei nostri profili\, affin
 ché possiamo esprimere il meglio di noi stesse\ne realizzare un piccolo Li
 nkedIn BPW. A questo scopo avremo a disposizione:\n \n\n	truccatrice\n	parru
 cchiera\n	fotografo/a \n	webmaster e segretaria BPW Club Ticino\n\n \nLa nos
 tra socia e vice presidente Gaia Marniga metterà a disposizione la locatio
 n:\n \nStudio IME Helvetia\, via S. Balestra 9\, 6900 Lugano\n \nPer far s
 ì che tutto proceda per il verso giusto e si raggiunga l’obiettivo desider
 ato è necessario che ogni socia abbia:\n \n\n	possibilità di accedere al pr
 oprio profilo BPW (se sprovviste di password\, potete richiederne una\n	tra
 mite il link http://bpw.ch/index.php?page=708 almeno il giorno prima della
  data scelta per la partecipazione all'evento)\n	possibilità di accedere al
  proprio account di posta elettronica\n	chiavetta USB contenente il proprio
  CV il più aggiornato possibile\n\n \nSeguirà Aperitivo\n \nPer motivi org
 anizzativi vi preghiamo di confermarci la vostra partecipazione in una del
 le date sopraccitate entro il 20.06.2017. \nIl contributo per la serata “a
 ll inclusive” è di fr. 20.--\n 
DTSTART:20170907T170000
DTEND:20170907T213000
LOCATION:Studio IME Helvetia\, Lugano
ORGANIZER:MAILTO:BPW Ticino <info@bpw-ticino.ch>
SUMMARY:Profile Party Kit
END:VEVENT
END:VCALENDAR
