BEGIN:VCALENDAR
VERSION:2.0
PRODID:-//BPW Ticino//NONSGML kigkonsult.se iCalcreator 2.16.12//
METHOD:PUBLISH
X-MS-OLK-FORCEINSPECTOROPEN:TRUE
BEGIN:VEVENT
UID:20260423T030253CEST-7467csAdkA@BPW Ticino
DTSTAMP:20260423T010253Z
DESCRIPTION:Nel prossimo mese di maggio avrà luogo il primo seminario in Ti
 cino di Personal Empowerment Program (PEP). Questo seminario\, rivolto a d
 onne che desiderano sviluppare metodi per evolvere secondo le proprie ambi
 zioni professionali\, comunicare in maniera assertiva\,saper interagire ef
 ficacemente nelle equipes e nella vita professionale\, politica e social\,
  sarà condotto da una formatrice qualificata\, proveniente dalla Romandia\
 , e si svolgerà presso la nostra sede c/o Swica a Lugano\, dal venerdì ser
 a 5 maggio al sabato 6 maggio prossimi (vedere volantino allegato). \n\nI 
 costi sono particolarmente favorevoli per le socie: 200 CHF (grazie ad un 
 contributo specifico messo a disposizione del Club) mentre per le non soci
 e il costo è di 250 CHF. Sono compresi la cena del venerdì sera\, il pranz
 o del sabato e le pause.\n\nIl seminario si terrà in francese\, ma la form
 atrice parla e capisce l'italiano\, inoltre la documentazione di supporto 
 è in italiano e sarà presente una persona di sostegno per le traduzioni.\n
 \nScaricare la locandina\n\nPer iscrizioni scrivere a info@bpw-ticino.ch  
 \n\nPer informazioni ulteriori\, scrivere a deli.salini@yahoo.it \n\n 
DTSTART:20170505T170000
DTEND:20170506T183000
ORGANIZER:MAILTO:BPW Ticino <info@bpw-ticino.ch>
SUMMARY:Seminario PEP Personal Empowerment Program
END:VEVENT
END:VCALENDAR
