BEGIN:VCALENDAR
VERSION:2.0
PRODID:-//BPW Ticino//NONSGML kigkonsult.se iCalcreator 2.16.12//
METHOD:PUBLISH
X-MS-OLK-FORCEINSPECTOROPEN:TRUE
BEGIN:VEVENT
UID:20260423T014057CEST-4265pmUDl4@BPW Ticino
DTSTAMP:20260422T234057Z
DESCRIPTION:EQUAL PAY DAY   \n\n\nLe donne svizzere guadagnano ancora il 15
 .1% in meno dei loro colleghi di sesso maschile\; devono cioè lavorare il 
 15.1% in più\, 55 giorni di calendario\, per lo stesso salario che\, a par
 ità di funzioni e responsabilità\, i colleghi uomini hanno già maturato al
  31 dicembre.\nIl BPW Club Ticino vi invita\nVenerdì 17 marzo 2017 alle or
 e 18:30\npresso il Canvetto Luganese\nVia R. Simen 14b Lugano\na conoscere
  “L'altra metà dell'agricoltura” : l’inchiesta giornalistica e fotografica
  di Stefania Prandi che racconta le discriminazioni e lo sfruttamento dell
 e lavoratrici agricole.\nLe braccianti delle serre e le operaie dei magazz
 ini che raccolgono e confezionano gli ortaggi e la frutta che arrivano sul
 le nostre tavole\, non solo sono pagate meno degli uomini\, ma vengono mol
 estate sessualmente\, ricattate\, costrette a subire violenze.\nIl fenomen
 o del caporalato “al femminile” è presente in Italia\, dal sud al nord\, e
  in altre zone delll'area mediterranea\, come Spagna e Marocco: Paesi che 
 esportano frutta e verdura anche in Svizzera.\nStefania Prandi\, giornalis
 ta professionista e fotografa\, ha realizzato il reportage “L'altra metà d
 ell'agricoltura” (scelto tra i migliori articoli del 2016 da Vice Italia)\
 ; lo sta portando avanti da marzo 2016 e ha ricevuto numerosi premi e menz
 ioni speciali (info allegate)\nSegue l’aperitivo offerto dal BPW Club Tici
 no.\nPer motivi organizzativi\, è gradita la conferma rispondendo per e-ma
 il.\nA presto\,\nFederica Guerra\, responsabile Equal Pay Day (mobile 076/
 5665133)\nMarialuisa Parodi\, Immediate Past President (mobile 076/5757931
 )\n 
DTSTART:20170317T183000
DTEND:20170317T213000
LOCATION:Lugano
ORGANIZER:MAILTO:BPW Ticino <info@bpw-ticino.ch>
SUMMARY:Evento Equal Pay Day
END:VEVENT
END:VCALENDAR
