BEGIN:VCALENDAR
VERSION:2.0
PRODID:-//BPW Ticino//NONSGML kigkonsult.se iCalcreator 2.16.12//
METHOD:PUBLISH
X-MS-OLK-FORCEINSPECTOROPEN:TRUE
BEGIN:VEVENT
UID:20260423T013923CEST-6623SHzxE9@BPW Ticino
DTSTAMP:20260422T233923Z
DESCRIPTION:\nCome ogni anno il BPW Club Ticino celebra l’appuntamento più 
 importante dell'associazione\, “La Cerimonia Internazionale delle Candele”
 . \n\nIstituita dalla fondatrice del Club\, Lena Madesin Phillips\, durant
 e la seconda guerra mondiale - la Cerimonia delle Candele simboleggia la s
 olidarietà femminile a livello mondiale. Ogni anno\, tra febbraio e marzo 
 è celebrata dai Club BPW di tutto il mondo. Si tratta di una serata dall’a
 tmosfera suggestiva\, che riunisce tutti i club in un simbolico abbraccio 
 per ricordare le ambizioni e l’opera delle donne impegnate in ogni parte d
 el globo.\n\n \n\nLa serata è riservata esclusivamente alle socie e alle a
 miche del Club.\n\n\n\n \n\nCliccare qui per aprire il menu\n\n \n\nPer mo
 tivi organizzativi vi preghiamo gentilmente di volerci comunicare la vostr
 a partecipazione entro e non oltre il 3 marzo 2017\, inviando una e-mail a
  info@bpw-ticino.ch.\n\nL’Hotel dispone di un ampio parcheggio.\n\n \n\nVi
  aspettiamo!\n\n \n
DTSTART:20170310T183000
DTEND:20170310T223000
LOCATION:Lugano
ORGANIZER:MAILTO:BPW Ticino <info@bpw-ticino.ch>
SUMMARY:Cena delle Candele 2017
END:VEVENT
END:VCALENDAR
