BEGIN:VCALENDAR
VERSION:2.0
PRODID:-//BPW Ticino//NONSGML kigkonsult.se iCalcreator 2.16.12//
METHOD:PUBLISH
X-MS-OLK-FORCEINSPECTOROPEN:TRUE
BEGIN:VEVENT
UID:20260423T001444CEST-548251nIHI@BPW Ticino
DTSTAMP:20260422T221444Z
DESCRIPTION:Organizzatore: BPW Club Langenthal-Huttwil\n\nSabato 27 ottobre
  2018\nCréation Baumann e Restaurant Bären di Langenthal\n\nBenvenute nell
 ’Alta Argovia\n«Geit dr Luft o goot dr Wind?» non importa quanto diverse p
 ossono essere le espressioni colloquiali qui in uso: nell’Alta Argovia sia
  la ricchezza dell’insieme che la cura del dettaglio sono una tradizione c
 onsolidata. Qui il paesaggio idilliaco è a portata della piccola città pul
 sante\; qui ingegnosi esercenti si sono evoluti in aziende e tranquilli vi
 llaggi contadini in attrattivi luoghi di residenza. Qui si coltiva la terr
 a e si cura lo spirito del tempo\; il consolidato coesiste con il nuovo.\n
 Situati tra la prima catena montuosa del Giura e la valle dell’Emmental\, 
 nella regione dell’Alta Argovia sono presenti 46 comuni con circa 80 000 a
 bitanti. L’influenza dei cantoni confinanti di Soletta\, Argovia e Lucerna
  è percettibile\, ciononostante l’Alta Argovia\, una «terra dell’alta regi
 one dell’Aar» può vantare la propria autenticità. Scoprite con noi l’Alta 
 Argovia e godetevi una giornata a Langenthal\, il centro della nostra regi
 one.\n \n\n	\n		\n			Programma\n			 \n		\n		\n			Programma del giorno\n			 \n		\n		\n			9.30 - 10.15
 \n			Arrivo\, caffè di benvenuto e registrazione presso Création Baumann\n		\n		
 \n			10.15 - 11.00\n			Benvenuto di BPW Langenthal-Huttwil\n			Saluto di Philipp Ba
 umann\, CEO Création Baumann\n			Discorso della consigliera di stato Béatrice
  Simon (BDP)\n			Discorso della presidente centrale di BPW Elisabeth Bosshard
 \n		\n		\n			11.00 - 12.30\n			Conferenza d’autunno BPW Switzerland\n		\n		\n			12.30 - 14.
 30\n			Lunch\n		\n		\n			14.30 - 17.00\n			«Comunicazione eterea»: introduzione/moderaz
 ione di Béatrice Müller\n			Workshop di approfondimento\n		\n		\n			17.00 - 18.00\n			S
 postamento da Création Baumann all’Hotel Bären di Langenthal\n		\n		\n			 \n			 \n		\n
 		\n			Programma partner\n			 \n		\n		\n			09.30 - 10.00\n			Arrivo presso il teatro cittadi
 no\, caffè di benvenuto e registrazione\n		\n		\n			10.00 - 11.45\n			Visita con l’i
 ntendente Reto Lang\n		\n		\n			11.45 - 14.00\n			Aperitivo e pranzo\n		\n		\n			14.20\n			Via
 ggio in treno Langenthal Bahnhof–Industrie Nord\n		\n		\n			14.30 - 16.30\n			Visita
  e contributo di Peter Regenass\, CEO Motorex AG\, incl. aperitivo\n		\n		\n			16
 .36 et 17.01\n			Viaggio in treno Industrie Nord–Langenthal Bahnhof\, passegg
 iata fino al Restaurant Bären\n		\n		\n			 \n			 \n		\n		\n			Serata gala\n			 \n		\n		\n			18.00\n			\n
 			\n			\n			Flyer\n			Aperitivo\, a seguire serata gala nonché festeggiamenti dell’an
 niversario di BPW Langenthal-Huttwil\n			\n			 \n		\n	\n\n\nSponsor oro Conferenza 
 d'autunno:\n \n\n\nSponsor argento e bronzo 
DTSTART:20181027T000000
DTEND:20181027T235900
LOCATION:Langenthal
ORGANIZER:MAILTO:BPW Ticino <info@bpw-ticino.ch>
SUMMARY:Conferenza d'autunno 2018
END:VEVENT
END:VCALENDAR
