BEGIN:VCALENDAR
VERSION:2.0
PRODID:-//BPW Ticino//NONSGML kigkonsult.se iCalcreator 2.16.12//
METHOD:PUBLISH
X-MS-OLK-FORCEINSPECTOROPEN:TRUE
BEGIN:VEVENT
UID:20260423T014404CEST-0687C0R5uZ@BPW Ticino
DTSTAMP:20260422T234404Z
DESCRIPTION:“Allegra” e benvenuti nei Grigioni presso il Club BPW Coira\n 
 \n\nProgramma\n\nVenerdì\, 02.06.2018\; Ore 18.00 – 22.00:\n\nAlumnae-Meet
 ing\nAlla vigilia dell’AD si riuniscono le presidenti uscenti e in carica 
 dei Club BPW nonché i membri uscenti e in carica del Comitato centrale.\n
 \nDurante un piacevole colloquio con Joana Torres e Julia Kalenberg potret
 e farvi un’idea sul significativo tema strategico delle socie aziendali. N
 egli ultimi mesi una Task Force ha sviluppato degli strumenti per acquisir
 e delle socie aziendali in quanto partner strategiche di BPW. Noi siamo co
 nvinte che voi in quanto presidenti uscenti o in carica abbiate molti cont
 atti e che potrete portare un prezioso contributo all’acquisizione di ulte
 riori socie aziendali. Siamo liete delle vostre idee!\nA seguire aperitivo
  e leggero menù estivo\n\nSabato\, 02.06.2018\n\nDalle 9.30: Accoglienza\,
  registrazione\, caffè di benvenuto\n\n10.00 – 11.45: Workshop sugli argom
 enti seguenti\n\nWorkshop 1+3 sono completamente prenotati\n\n\n	Workshop 1
 : Persona\, prospettiva e passione – vincere con il proprio profilo!\n	Work
 shop 2: Una piccola differenza di salario non è un problema” dice mio mari
 to – e altri fatti alternativi\n	Workshop 3: Social media – come utilizzarl
 i al meglio per il proprio Club\n\nParallelamente ai workshop: helpdesk pe
 r domande relative alla pagina web e alla banca dati delle socie\n\n12.00 
 – 13.00: Pranzo\n\n13.30 – 17.30: Assemblea delle Delegate\n\nGala alpino 
 è completamente prenotato\n19.00 – 24.00: Aperitivo e gala alpino\nFesta d
 ’anniversario e cena in festa con accompagnamento musicale di Jörg Gujan\n
 \nProgramma partner 2 - L’affascinante mondo della carne secca dei Grigion
 i\nTermine d’iscrizione 16.04.2018\n10.00 – 11.45: Workshop “Evoluzione de
 lla cultura aziendale”\n12.00 – 13.00: Pranzo\n14.30 – 16.30: Visita allo 
 stabilimento di essiccatura della carne Brügger di Parpan con aperitivo e 
 degustazione\n\nInvito e ulteriori informazioni
DTSTART:20180602T090000
DTEND:20180603T170000
LOCATION:Lenzerheide
ORGANIZER:MAILTO:BPW Ticino <info@bpw-ticino.ch>
SUMMARY:Assemblea delle Delegate 2018
END:VEVENT
END:VCALENDAR
