BEGIN:VCALENDAR
VERSION:2.0
PRODID:-//BPW Ticino//NONSGML kigkonsult.se iCalcreator 2.16.12//
METHOD:PUBLISH
X-MS-OLK-FORCEINSPECTOROPEN:TRUE
BEGIN:VEVENT
UID:20260423T014032CEST-7253u8vlZF@BPW Ticino
DTSTAMP:20260422T234032Z
DESCRIPTION:Vous trouvez le prospectus ici\n\nLe système bancaire est l’un 
 des piliers de l’économie réelle: il assure le financement des particulier
 s et des entreprises. Les banques ont été pendant longtemps les interlocut
 eurs privilégiés des entreprises. La crise financière de 2008 a conduit ce
 s dernières à réduire leur activité de crédit dans de nombreux pays de l’U
 nion européenne afin de répondre aux exigences réglementaires. Ce contexte
  a été propice à l’émergence de nouveaux acteurs souvent peu ou pas réglem
 entés. Cette arrivée subite des FinTechs est à l’origine d’un changement p
 rofond. Ces startups innovantes ont parfois pris le relais des banques sur
  certains pans de leur activité. Les cartes ont été redistribuées entre le
 s acteurs bancaires traditionnels et les nouveaux entrants.\n\nDerrière ce
 tte mutation\, qualifiée parfois d’ubérisation de la finance\, se cache de
 s enjeux majeurs pour la société. La question du financement de l’économie
  réelle est fondamentale et les pouvoirs publics l’ont bien compris. La cr
 oissance dépend dans une large mesure du dynamisme des PME\, qui constitue
 nt le socle de l’économie réelle. Leur financement est donc une priorité p
 our les pays qui veulent renouer avec la croissance. Même si une vaste maj
 orité des PME reste fidèle aux crédits bancaires\, la venue des nouveaux a
 cteurs sur la scène financière facilite la vie des entreprises en proposan
 t des sources alternatives de financement et en répondant à leurs besoins.
  Après le premier effet de surprise suscité par l’arrivée des FinTechs\, l
 es banques s’adaptent et développent des collaborations avec les nouveaux 
 acteurs leur permettant ainsi d’accélérer leur vitesse d’exécution\, de s’
 adapter aux nouveaux modes de consommation et de transformer leur chaîne d
 e valeur.\n\nL’émergence des FinTechs ne sonne donc pas le glas des acteur
 s établis\, elle témoigne d’un système bancaire en pleine mutation. C’est 
 ce dernier que nous vous proposons de découvrir lors de l’événement « Aven
 ir de la place financière » organisé par BPW Switzerland\, L'Agefi et la F
 ER Genève le 19 septembre 2017 à partir de 17h30 à la FER Genève. Vous aur
 ez ainsi l’occasion de découvrir et d’écouter des conférencières et confér
 enciers de renom qui apporteront leur vision de la finance de demain.\n\nP
 articipants\nLa conférence réunira de nombreux acteurs suisses et français
  dont M. Fabrice Filliez\, Ambassadeur\, chef suppléant de la division Fis
 calité\, Secrétariat d’Etat aux questions financières internationales\, Ed
 ouard Cuendet  directeur de Genève Place Financière\, Frédérique Reeb-Land
 ry de la Chambre de commerce\, d'industrie et des services de Genève\, Fab
 rice Leclerc\, « innovateur & business angel »\, Anastasia Ailamaki\, CEO 
 & co-fondatrice de RAW Labs SA et professeur de Computer Sciences à l’EPFL
 \, Patrick Schefer directeur de la Fondation d’aide aux entreprises\, Agnè
 s Bricard\, Conseiller du commerce extérieur de la France et auteur du Gui
 de du Routard du financement d'entreprise\, ainsi que des représentants de
 s autorités suisses et de plusieurs sociétés de technologie.\n\nPeut-être 
 serez-vous incité à l’issue de cette rencontre à devenir un acteur du chan
 gement car comme disait Peter Drucker : «La meilleure façon de prédire l’a
 venir\, c’est de le créer»?\n\n\n \n\n	\n		\n			 \n			M. Fabrice Filliez\n			Ambassade
 ur\, chef suppléant de la division Fiscalité\, Secrétariat d’Etat aux ques
 tions financières internationales\n		\n		\n			\n			Anastasia Ailamaki\n			CEO & co-fond
 atrice de RAW Labs SA et professeur de Computer Sciences à l’EPFL\n		\n		\n			\n			A
 gnès Bricard\n			auteur du Guide du Routard du financement d'entreprise\n		\n		\n
 			\n			Fabrice Leclerc\n			« innovateur & business angel »\n			 \n		\n	\n\n   \n\n>> Ins
 cription et payement\n     
DTSTART:20170919T173000
DTEND:20170919T210000
LOCATION:FER (Federation des Entreprises Romandes) Genève
ORGANIZER:MAILTO:BPW Ticino <info@bpw-ticino.ch>
SUMMARY:Board Day 2017: Avenir de la place financière
END:VEVENT
END:VCALENDAR
