BEGIN:VCALENDAR
VERSION:2.0
PRODID:-//BPW Ticino//NONSGML kigkonsult.se iCalcreator 2.16.12//
METHOD:PUBLISH
X-MS-OLK-FORCEINSPECTOROPEN:TRUE
BEGIN:VEVENT
UID:20260423T013816CEST-1899evRBHl@BPW Ticino
DTSTAMP:20260422T233816Z
DESCRIPTION:C’est l’occasion pour les présidentes nouvellement élues de rec
 evoir les principales informations pour l’exercice de leur fonction.\n\npl
 an de situation de l'hôtel Astoria à Olten 
DTSTART:20170401T100000
DTEND:20170401T170000
LOCATION:Hotel Restaurant Astoria\, Olten
ORGANIZER:MAILTO:BPW Ticino <info@bpw-ticino.ch>
SUMMARY:Formation des présidentes
END:VEVENT
END:VCALENDAR
