BEGIN:VCALENDAR
VERSION:2.0
PRODID:-//BPW Ticino//NONSGML kigkonsult.se iCalcreator 2.16.12//
METHOD:PUBLISH
X-MS-OLK-FORCEINSPECTOROPEN:TRUE
BEGIN:VEVENT
UID:20260423T032039CEST-5670jvAcVp@BPW Ticino
DTSTAMP:20260423T012039Z
DESCRIPTION:Sta accarezzando l’idea di entrare a far parte del Comitato? Op
 pure fa già parte del Comitato ma desidererebbe sapere di più sull’associa
 zione e sulle possibilità che BPW le offre?\n\nDesidera incontrare donne p
 rovenienti da tutta la Svizzera che si impegnano con dedizione per BPW?\n
 \nAllora venga il 14 gennaio a Olten in occasione del Workshop motivaziona
 le per potenziali membri del Comitato.\n\n\n 
DTSTART:20170114T100000
DTEND:20170114T170000
LOCATION:Hotel Restaurant Astoria
ORGANIZER:MAILTO:BPW Ticino <info@bpw-ticino.ch>
SUMMARY:Workshop motivazionale per potenziali membri del comitato
END:VEVENT
END:VCALENDAR
