BEGIN:VCALENDAR
VERSION:2.0
PRODID:-//BPW Ticino//NONSGML kigkonsult.se iCalcreator 2.16.12//
METHOD:PUBLISH
X-MS-OLK-FORCEINSPECTOROPEN:TRUE
BEGIN:VEVENT
UID:20260423T014251CEST-83304KvlAO@BPW Ticino
DTSTAMP:20260422T234251Z
DESCRIPTION:BPW Basilea vi dà il benvenuto\n\nVenerdi\, 23.06.2017\; Ore 18
 .00:\n\nAlumnae-Meeting per le (past) presidents dei club e il Comitato Ce
 ntrale di BPW Switzerland\n\n\n	“Quando noi allora…” – storie davanti al ca
 mino su di te\, me e BPW: Noi BPW conosciamo tutte i profili di Brigitta\,
  Paula e Wilma. Come o per cosa sono tuttavia note al pubblico queste tre 
 donne? E come possiamo renderle maggiormente note? A questo scopo abbiamo 
 bisogno delle esperienze reali delle nostre precedenti presidenti. Davanti
  al camino e con un bicchiere di buon vino rosso vorremmo aprire la vostra
  scatola dei ricordi e collezionare aneddoti.\n\nSabato\, 24.06.2017\n\n09
 h30 : Workshop sugli argomenti seguenti\n\n\n	Fintech – opportunità per BPW
  con Florence Anglès e Beatrice Lüthi: Cos’è Fintech? Evoluzione di Fintec
 h incl. condizioni quadro giuridiche. Opportunità e rischi? Come possono l
 e BPW utilizzare e applicare ragionevolmente Fintech?\n	Investire - il tren
 d non è sempre un amico con Joana Torres e Special Guest: Princìpi d’inves
 timento e mercato finanziario spiegati in modo chiaro e orientato alla pra
 ssi\n	Punti di vista – il sito web come vetrina digitale con Christine Abbü
 hl: Il sito web è l’insegna digitale di un BPW Club. È la vetrina con cui 
 presentarvi al mondo esterno. Nel workshop analizzeremo i punti principali
  affinché il vostro sito web soddisfi le necessità e le aspettative dei di
 versi interlocutori – specialmente quelli che vorreste attrarre a voi.\n	Vi
 sita con workshop alla galleria e ai giardini delle sculture con Claire Oc
 hsner: Giardino delle sculture di Claire Ochsner: visita guidata alla gall
 eria e al giardino incantato delle sculture con la presenza stimolante e d
 ai colori vivaci di Claire Ochsner e workshop annesso. Faremo un collage d
 i foto delle opere dell'artista (max. 25 partecipanti - le iscrizioni verr
 anno considerate in ordine d'arrivo).\n\nOre 13.00: Assemblea delle delega
 te\n \nDalle ore 09.30 alle 17.30: Programma partner - Musée de l’Automobi
 le Mulhouseée\n \nA partire dalle ore 18.00: Aperitivo e Festa d’anniversa
 rio '70 anni di BPW Club Basilea' con cena elegante - Moderatrice e ispira
 trice Kafi Freitag\n\nFlyer\nReservation form Motel My One (english)
DTSTART:20170623T180000
DTEND:20170624T235900
LOCATION:Basel
ORGANIZER:MAILTO:BPW Ticino <info@bpw-ticino.ch>
SUMMARY:Assemblea delle delegate
END:VEVENT
END:VCALENDAR
