BEGIN:VCALENDAR
VERSION:2.0
PRODID:-//BPW Ticino//NONSGML kigkonsult.se iCalcreator 2.16.12//
METHOD:PUBLISH
X-MS-OLK-FORCEINSPECTOROPEN:TRUE
BEGIN:VEVENT
UID:20260423T014403CEST-4904j0Mv1p@BPW Ticino
DTSTAMP:20260422T234403Z
DESCRIPTION:Etes-vous intéressée par les trucs et astuces permettant de man
 ier le site Web et la base de données des membres? Comment créer une nouve
 lle? Comment saisir une nouvelle membre dans le système? Comment créer une
  newsletter? Toutes les infos à ce sujet le 31 mars.\n\nplan de situation 
 de l'hôtel Astoria à Olten\n 
DTSTART:20170331T133000
DTEND:20170331T173000
LOCATION:Hotel Restaurant Astoria\, Olten
ORGANIZER:MAILTO:BPW Ticino <info@bpw-ticino.ch>
SUMMARY:Formation web sur la base de données et site Internet
END:VEVENT
END:VCALENDAR
