BEGIN:VCALENDAR
VERSION:2.0
PRODID:-//BPW Ticino//NONSGML kigkonsult.se iCalcreator 2.16.12//
METHOD:PUBLISH
X-MS-OLK-FORCEINSPECTOROPEN:TRUE
BEGIN:VEVENT
UID:20260423T030820CEST-1997ufvZFb@BPW Ticino
DTSTAMP:20260423T010820Z
DESCRIPTION:\n 
DTSTART:20170224T000000
DTEND:20170224T235900
LOCATION:tbd
ORGANIZER:MAILTO:BPW Ticino <info@bpw-ticino.ch>
SUMMARY:Equal Pay Day 2017
END:VEVENT
END:VCALENDAR
