BEGIN:VCALENDAR
VERSION:2.0
PRODID:-//BPW Ticino//NONSGML kigkonsult.se iCalcreator 2.16.12//
METHOD:PUBLISH
X-MS-OLK-FORCEINSPECTOROPEN:TRUE
BEGIN:VEVENT
UID:20260423T030119CEST-2872Om4fzu@BPW Ticino
DTSTAMP:20260423T010119Z
DESCRIPTION:\nBenvenuti nel Canton Giura!\n\nÈ per noi una grande gioia dar
 vi il benvenuto nel cantone più giovane di tutta la Svizzera.\n\nProgramma
  per le BPW\n\n09.30 – 10.00     Caffè di benvenuto e registrazione\n10.00
  – 10.30     Assemblea straordinaria delle delegate\n10.30 – 10.45     Pau
 sa\n10.45 – 12.30     Conferenza d'autunno di BPW Switzerland\n12.30 – 14.
 30     Pranzo\n14.30 – 16.00     Contributo di Jessica Sbaraglia\n16.00 – 
 17.00     Pausa caffè\n\nProgramma partner\n\n09.30 – 10.30     Caffè di b
 envenuto e registrazione\n10.30                  Partenza in auto per Sain
 t-Ursanne\n11.00 – 12.00     Giro per il centro storico medievale\n12.00 –
  13.30     Pranzo in ristorante del posto\n14.00 – 16.15     Visita al lab
 oratorio sotterraneo di Mont Terri\n16.30                  Ritorno in auto
  a Delemonte\n17.00                 Arrivo a Delemonte\n\n18.30 Serata di 
 gala\n\nFlyer\n\nPer riservare una camera recatevi direttamente su Jura To
 urisme\, Pl. de la Gare 9\, 2800 Delémont\, T. +41 (0) 32 432 41 70\, info
 @juratourisme.ch.\n\n 
DTSTART:20171104T000000
DTEND:20171104T235900
LOCATION:BPW Jura
ORGANIZER:MAILTO:BPW Ticino <info@bpw-ticino.ch>
SUMMARY:Conferenza d‘autunno
END:VEVENT
END:VCALENDAR
