BEGIN:VCALENDAR
VERSION:2.0
PRODID:-//BPW Ticino//NONSGML kigkonsult.se iCalcreator 2.16.12//
METHOD:PUBLISH
X-MS-OLK-FORCEINSPECTOROPEN:TRUE
BEGIN:VEVENT
UID:20260423T014422CEST-3874AvxdhK@BPW Ticino
DTSTAMP:20260422T234422Z
DESCRIPTION:Care Socie\, \nL’Assemblea Ordinaria del BPW CLUB Ticino è conv
 ocata per \nmartedi 31 gennaio 2017 alle ore 18.45 \npresso l’Hotel Parco 
 Paradiso (www.parco-paradiso.com )\n\nRicordiamo che la partecipazione all
 'Assemplea è obbligatoria.\nQualora una Socia fosse impossibilitata a pres
 enziare\, è pregata di darne comunicazione - e contestualmente delegare un
 a rappresentante - via mail all'indirizzo  info@bpw-ticino.ch\, con copia 
 a Gaia Marniga (gaia.marniga@gmail.com)\,\nentro il 25 gennaio 2016.\n \n
 \n**Le nuove Socie sono invitate a scegliere e comunicare il nome della Ma
 drina\, che avrà il compito  di presentarle all'Assemblea**\nLe Socie usce
 nti  potranno pure partecipare all'Assemblea (o delegare una rappresentant
 e)\, ritenuto che le loro dimissioni verranno in quel contesto ratificate.
 \n \n\nSono stati trasmessi per e-mail a tutte le socie: \n- Verbale dell’
 Assemblea 2016 (già inviato in data 23/3/2016)\n-  Ordine del Giorno\n \n
 \nVi preghiamo anche di comunicarci se desiderate fermarvi dopo l’Assemble
 a per la tradizionale  cena\, presso lo stesso ristorante.\nAbbiamo selezi
 onato il menù  in calce al prezzo di CHF 56.  p.p.\n \n\nIn attesa di inco
 ntrarvi tutte il 31 gennaio\, care Socie\, ricevete i  migliori auguri di 
 Buon Natale e di un 2017 veramente speciale!\n \n\nMarialuisa Parodi e Rit
 a Mazzara\nCopresidenti  \n \nMenu\nCarpaccio di polipo alla rucola\, pomo
 dori e olive\n \n****\nRiso al taleggio della Val Sassina\, pere William e
 d erbette fresche\n \n****\nCrème Brûlée\n \n(acqua\, caffè o tisana inclu
 si\, vino escluso).\nPS: Prendete contatto direttamente con il ristorante 
 per alternative.\n 
DTSTART:20170131T184500
DTEND:20170131T203000
LOCATION:Hotel Parco Paradiso\, Lugano
ORGANIZER:MAILTO:BPW Ticino <info@bpw-ticino.ch>
SUMMARY:Assemblea annuale BPW Ticino 2017
END:VEVENT
END:VCALENDAR
