BEGIN:VCALENDAR
VERSION:2.0
PRODID:-//BPW Ticino//NONSGML kigkonsult.se iCalcreator 2.16.12//
METHOD:PUBLISH
X-MS-OLK-FORCEINSPECTOROPEN:TRUE
BEGIN:VEVENT
UID:20260423T014011CEST-2738HGe4m4@BPW Ticino
DTSTAMP:20260422T234011Z
DESCRIPTION:Relatori di massimo livello internazionale\nRegistration fee - 
 Iscrizione entro il 30 di ottobre\nEarly bird rate: 90 €\nPer ogni 5 parte
 cipanti una registrazione è gratis.\nLogistica - Le compagnie aeree low co
 st volano su Valencia da Milano Bergamo e da Malpensa\nPer maggiori inform
 azioni visitare il sito dell'evento\n 
DTSTART:20161201T223000
DTEND:20161202T230000
ORGANIZER:MAILTO:BPW Ticino <info@bpw-ticino.ch>
SUMMARY:Congresso IC PLUS organizzato da BPW Spain e BPW Valencia 
END:VEVENT
END:VCALENDAR
