BEGIN:VCALENDAR
VERSION:2.0
PRODID:-//BPW Ticino//NONSGML kigkonsult.se iCalcreator 2.16.12//
METHOD:PUBLISH
X-MS-OLK-FORCEINSPECTOROPEN:TRUE
BEGIN:VEVENT
UID:20260423T001612CEST-8503hpJ02E@BPW Ticino
DTSTAMP:20260422T221612Z
DESCRIPTION:INVITO\nIn occasione dei 20 anni dall’entrata in vigore della l
 egge sulla parità dei sessi LPar\, la Commissione consultiva per le pari o
 pportunità fra i sessi\,\nin collaborazione con la Delegata per le pari op
 portunità e con FAFTPlus\, organizza una mattinata di studio\nsabato 22 ot
 tobre 2016 presso l’Hotel Unione a Bellinzona\nPer ragioni organizzative v
 i preghiamo di annunciare la vostra presenza entro il 19 ottobre a marilen
 a.fontaine@ti.ch oppure telefonando al 091 814 43 08.\nNell’attesa di inco
 ntrarvi vi porgiamo i nostri migliori saluti.\n\nDavina Fitas\nPresidente 
 della Commissione consultiva per le pari opportunità fra i sessi\n\n 
DTSTART:20161022T230000
DTEND:20161022T233000
LOCATION:Bellinzona\, Hotel Unione
ORGANIZER:MAILTO:BPW Ticino <info@bpw-ticino.ch>
SUMMARY:Mattinata di studio
END:VEVENT
END:VCALENDAR
