BEGIN:VCALENDAR
VERSION:2.0
PRODID:-//BPW Ticino//NONSGML kigkonsult.se iCalcreator 2.16.12//
METHOD:PUBLISH
X-MS-OLK-FORCEINSPECTOROPEN:TRUE
BEGIN:VEVENT
UID:20260423T001443CEST-1146Z6RKPt@BPW Ticino
DTSTAMP:20260422T221443Z
DESCRIPTION:Il 26 agosto 1930 fu il giorno in cui Lena Madesin Phillips fon
 dò a Ginevra l’associazione internazionale delle Business and Professional
  Women. Per questo motivo le BPW International hanno dichiarato il 26 agos
 to BPW Day. Può partecipare in modo molto semplice: indossi qualcosa di gi
 allo durante questa giornata.\n\n#BPWDay
DTSTART:20160826T000000
DTEND:20160826T235900
LOCATION:weltweit
ORGANIZER:MAILTO:BPW Ticino <info@bpw-ticino.ch>
SUMMARY:BPW Day
END:VEVENT
END:VCALENDAR
