BEGIN:VCALENDAR
VERSION:2.0
PRODID:-//BPW Ticino//NONSGML kigkonsult.se iCalcreator 2.16.12//
METHOD:PUBLISH
X-MS-OLK-FORCEINSPECTOROPEN:TRUE
BEGIN:VEVENT
UID:20260423T001628CEST-1916pxPbMV@BPW Ticino
DTSTAMP:20260422T221628Z
DESCRIPTION:\n\nDevelop and strengthen your leadership skills in this inter
 active two-day training.\n\nSee the video from the last training in Basel.
 \n​\n\nRegistration: www.bpw-lakegeneva.ch\n\n \n\nLearn more information 
 in the flyer.\n\n\n
DTSTART:20161112T000000
DTEND:20161113T235900
LOCATION:Lausanne\, Hotel Aulac
ORGANIZER:MAILTO:BPW Ticino <info@bpw-ticino.ch>
SUMMARY:BPW Leadership for Women
END:VEVENT
END:VCALENDAR
