BEGIN:VCALENDAR
VERSION:2.0
PRODID:-//BPW Ticino//NONSGML kigkonsult.se iCalcreator 2.16.12//
METHOD:PUBLISH
X-MS-OLK-FORCEINSPECTOROPEN:TRUE
BEGIN:VEVENT
UID:20260423T002026CEST-2326WG6wbc@BPW Ticino
DTSTAMP:20260422T222026Z
DESCRIPTION:La conférence des présidentes aura lieu le samedi 5 novembre 20
 16 à l'hôtel/restaurant Astoria à Olten\n\nAstoria\, plan
DTSTART:20161105T103000
DTEND:20161105T170000
LOCATION:Hotel\, Restaurant Astoria\, Olten
ORGANIZER:MAILTO:BPW Ticino <info@bpw-ticino.ch>
SUMMARY:Conférence des présidentes
END:VEVENT
END:VCALENDAR
