BEGIN:VCALENDAR
VERSION:2.0
PRODID:-//BPW Ticino//NONSGML kigkonsult.se iCalcreator 2.16.12//
METHOD:PUBLISH
X-MS-OLK-FORCEINSPECTOROPEN:TRUE
BEGIN:VEVENT
UID:20260423T001551CEST-20351xv8Jl@BPW Ticino
DTSTAMP:20260422T221551Z
DESCRIPTION:BPW Switzerland ospiterà la prossima Conferenza Europea del 201
 6. Membre BPW provenienti da tutta l’Europa s’incontreranno a Zurigo parte
 cipando a laboratori\, tavole rotonde e\, naturalmente\, una buona porzion
 e di networking.\n\nVenite a Zurigo\, incontrate nuove socie d’affari e fa
 tevi ispirare da donne di altre culture.\n\n\nPrenotatevi la data!\n\nMagg
 iori informazioni: www.bpw-european-conference.org\n\n\n\n
DTSTART:20160930T150000
DTEND:20161002T230000
LOCATION:Zurich
ORGANIZER:MAILTO:BPW Ticino <info@bpw-ticino.ch>
SUMMARY:15th BPW European Conference Zurich 2016
END:VEVENT
END:VCALENDAR
