BEGIN:VCALENDAR
VERSION:2.0
PRODID:-//BPW Ticino//NONSGML kigkonsult.se iCalcreator 2.16.12//
METHOD:PUBLISH
X-MS-OLK-FORCEINSPECTOROPEN:TRUE
BEGIN:VEVENT
UID:20260424T102714CEST-2691fd9iXX@BPW Ticino
DTSTAMP:20260424T082714Z
DESCRIPTION:Le 26 août 2016\, le BPW Club Toggenburg organise la 4ème éditi
 on du traditionnel BPW Golf Trophy à Gonten\, au pied du Säntis. Nous souh
 aitons inviter TOUTES les membres à découvrir le beau pays d'Appenzell et 
 les encourager à participer activement à l'évènement.  \nC'est également u
 ne occasion unique pour les non golfeuses de s'initier à la pratique du go
 lf\, sans pour autant devenir une adepte de golf. Il s’agit de vivre une a
 venture inhabituelle et inoubliable.\n \nLes habitants d'Appenzell et de T
 oggenbourg sont renommés pour leur hospitalité sans pareil. Nos sponsors n
 ous soutiennent avec générosité et nous permettent de concocter une offre 
 attrayante et de beaux trophées. Vous trouverez dans le flyer ci-joint de 
 plus amples informations comme p. ex. les formalités d'inscription (sous r
 éserve de légères modifications).\n\nKontakt\n\nFlyer en allemand
DTSTART:20160826T100000
DTEND:20160826T210000
LOCATION:Golfplatz Gonten\, 9108 Gontenbad
ORGANIZER:MAILTO:BPW Ticino <info@bpw-ticino.ch>
SUMMARY:4. BPW Golf-Trophy 2016
END:VEVENT
END:VCALENDAR
