BEGIN:VCALENDAR
VERSION:2.0
PRODID:-//BPW Ticino//NONSGML kigkonsult.se iCalcreator 2.16.12//
METHOD:PUBLISH
X-MS-OLK-FORCEINSPECTOROPEN:TRUE
BEGIN:VEVENT
UID:20260423T031247CEST-8508KzGvBs@BPW Ticino
DTSTAMP:20260423T011247Z
DESCRIPTION: 
DTSTART:20161129T123000
DTEND:20161129T140000
LOCATION:Lugano - pranzo
ORGANIZER:MAILTO:BPW Ticino <info@bpw-ticino.ch>
SUMMARY:Riunione di comitato aperta alle socie
END:VEVENT
END:VCALENDAR
