BEGIN:VCALENDAR
VERSION:2.0
PRODID:-//BPW Ticino//NONSGML kigkonsult.se iCalcreator 2.16.12//
METHOD:PUBLISH
X-MS-OLK-FORCEINSPECTOROPEN:TRUE
BEGIN:VEVENT
UID:20260423T002047CEST-4908PueGGE@BPW Ticino
DTSTAMP:20260422T222047Z
DESCRIPTION: 
DTSTART:20160507T100000
DTEND:20160507T120000
LOCATION:Lugano\, c/o sede Swica\, via Cantonale 
ORGANIZER:MAILTO:BPW Ticino <info@bpw-ticino.ch>
SUMMARY:Riunione di comitato aperta alle socie
END:VEVENT
END:VCALENDAR
