BEGIN:VCALENDAR
VERSION:2.0
PRODID:-//BPW Ticino//NONSGML kigkonsult.se iCalcreator 2.16.12//
METHOD:PUBLISH
X-MS-OLK-FORCEINSPECTOROPEN:TRUE
BEGIN:VEVENT
UID:20260423T014409CEST-0436hPh38m@BPW Ticino
DTSTAMP:20260422T234409Z
DESCRIPTION: 
DTSTART:20160312T100000
DTEND:20160312T120000
LOCATION:SWICA\, Lugano
ORGANIZER:MAILTO:BPW Ticino <info@bpw-ticino.ch>
SUMMARY:Riunione di comitato aperta alle socie
END:VEVENT
END:VCALENDAR
