BEGIN:VCALENDAR
VERSION:2.0
PRODID:-//BPW Ticino//NONSGML kigkonsult.se iCalcreator 2.16.12//
METHOD:PUBLISH
X-MS-OLK-FORCEINSPECTOROPEN:TRUE
BEGIN:VEVENT
UID:20260423T013925CEST-2698p0Dlzo@BPW Ticino
DTSTAMP:20260422T233925Z
DESCRIPTION:\n\nCare socie\, care amiche\,\nil Comitato del BPW Club Ticino
  organizza la cena di Natale \nche si terrà il 13 dicembre p.v. alle ore 1
 9.00 presso \nil ristorante Al Barilotto \n(Hotel De La Paix)\, via Cattor
 i 18\, 6900 Lugano \n(www.ristorante-al-barilotto.ch).\n \nSarà l’occasion
 e per trascorrere una bella serata insieme e \nscambiarsi gli auguri.\n \n
 Vi invitiamo a voler cortesemente confermare la vostra \npresenza e quella
  dei vostri accompagnatori e comunicare \nintolleranze alimentari o scelta
  menù vegetariano\, entro il 7 \ndicembre\, tramite e-mail all’indirizzo  
 info@bpw-ticino.ch\n \nIl ristorante è dotato di parcheggio.\n \nIn attesa
  delle vostre conferme\, che speriamo possano essere \nnumerose\, porgiamo
  i nostri più cordiali saluti.\n \nIl Comitato del BPW Club Ticino\n\n\n\n
 \n\n\n
DTSTART:20161213T010000
DTEND:20161213T020000
LOCATION:Al Barilotto
ORGANIZER:MAILTO:BPW Ticino <info@bpw-ticino.ch>
SUMMARY:Cena di Natale 2016
END:VEVENT
END:VCALENDAR
