BEGIN:VCALENDAR
VERSION:2.0
PRODID:-//BPW Ticino//NONSGML kigkonsult.se iCalcreator 2.16.12//
METHOD:PUBLISH
X-MS-OLK-FORCEINSPECTOROPEN:TRUE
BEGIN:VEVENT
UID:20260423T001751CEST-7312X0GviR@BPW Ticino
DTSTAMP:20260422T221751Z
DESCRIPTION:\n\n\n15th BPW European Conference Zurich 2016\n\n\n\n\n \n\n\n
 BPW Switzerland ospiterà la prossima Conferenza Europea del 2016. Membre B
 PW provenienti da tutta l’Europa si incontreranno a Zurigo\, partecipando 
 a laboratori\, tavole rotonde e\, naturalmente\, tanto networking.\n\nVeni
 te a Zurigo\, incontrate nuove socie d’affari e fatevi ispirare da donne d
 i altre culture!\n\n \n\n\n\n\n
DTSTART:20160930T010000
DTEND:20161002T020000
LOCATION:Zurigo
ORGANIZER:MAILTO:BPW Ticino <info@bpw-ticino.ch>
SUMMARY:Congresso europeo BPW
END:VEVENT
END:VCALENDAR
