BEGIN:VCALENDAR
VERSION:2.0
PRODID:-//BPW Ticino//NONSGML kigkonsult.se iCalcreator 2.16.12//
METHOD:PUBLISH
X-MS-OLK-FORCEINSPECTOROPEN:TRUE
BEGIN:VEVENT
UID:20260423T001443CEST-3919KKhgNv@BPW Ticino
DTSTAMP:20260422T221443Z
DESCRIPTION:Dopo la pausa estiva proponiamo alle socie e alle amiche del Cl
 ub una Merenda SINOIRA sul tema: Souvenirs d’estate! \n\nL'appuntamento è 
 per venerdì 26 agosto\, a partire dalle 17:30 al Roccolo di Castell\, una 
 graziosa sala multiuso\, situata in via Castell 2 a Montagnola. \n\nCi pia
 cerebbe che ciascuna portasse con sé un “souvenir d’estate” sotto forma di
  specialità alimentare\, spuntino\, bibita\, oppure … musica.\n\nPer confe
 rmare la vostra partecipazione\, precisate tramite il link http://doodle.c
 om/poll/esr8cvx9kehckdfc:\n- cosa porterete\n- se siete automunite o richi
 edete un passaggio per l'evento\n\nDeli Salini\, Vice-presidente Club BPW 
 Ticino\, si occupa di raccogliere le adesioni\, che vi invitiamo a comunic
 are al più presto.\n\n\n--\n\n\n\n\n\n\n\n\n\n\n\n
DTSTART:20160826T173000
DTEND:20160826T200000
LOCATION:Roccolo di Castell\, una graziosa sala multiuso\, situata in via C
 astell 2 a Montagnola
ORGANIZER:MAILTO:BPW Ticino <info@bpw-ticino.ch>
SUMMARY:Aperitivo del rientro a Montagnola
END:VEVENT
END:VCALENDAR
