BEGIN:VCALENDAR
VERSION:2.0
PRODID:-//BPW Ticino//NONSGML kigkonsult.se iCalcreator 2.16.12//
METHOD:PUBLISH
X-MS-OLK-FORCEINSPECTOROPEN:TRUE
BEGIN:VEVENT
UID:20260423T001444CEST-1241uwVsCT@BPW Ticino
DTSTAMP:20260422T221444Z
DESCRIPTION:La nostra socia  e membro del comitato\, la Dott.ssa Gaia Marni
 ga\, ci parlerà di come utilizzare le nostre risorse naturali per valorizz
 are la  nostra bellezza senza sconvolgere troppo l’aspetto.\n\nVi aspettia
 mo lunedì 14 Novembre alle ore 18.00 presso lo studio medico \n IME HELVET
 IA via Serafino Balestra 9 (quarto piano).\nL’evento è aperto agli amici e
 d amiche del nostro Club.\nPer motivi organizzativi vi preghiamo gentilmen
 te di confermarci la vostra partecipazione entro il 7 Novembre 2016\, scri
 vendo a info@bpw-ticino.ch\n \nVi aspettiamo!!!\n \n 
DTSTART:20161114T010000
DTEND:20161114T020000
LOCATION:Ime Helvetia
ORGANIZER:MAILTO:BPW Ticino <info@bpw-ticino.ch>
SUMMARY:Far emergere la propria bellezza in modo naturale
END:VEVENT
END:VCALENDAR
