BEGIN:VCALENDAR
VERSION:2.0
PRODID:-//BPW Ticino//NONSGML kigkonsult.se iCalcreator 2.16.12//
METHOD:PUBLISH
X-MS-OLK-FORCEINSPECTOROPEN:TRUE
BEGIN:VEVENT
UID:20260423T014236CEST-6208cEViGc@BPW Ticino
DTSTAMP:20260422T234236Z
DESCRIPTION:Sabato 17 settembre 2016\n\nVisita al parco botanico delle isol
 e di Brissago\n\n\n\nPROGRAMMA DELLA GIORNATA\n\n\n	Arrivo alle 10:20 a Por
 to Ronco\n	Battello alle 10:40\n	Visita guidata fino alle 12:00 circa\n	Pranz
 o\n	Alle 14:00 presentazione di una relatrice (da confermare)\n	Alle 15:30 c
 ommiato\n	Battello alle 15:45 o alle 16:25\n\nL’evento è aperto anche agli 
 uomini e alle amiche ed amici del nostro Club. \n\nIl menu consiste in:\nI
 nsalata romana con scaglie di grana\n****\nPollo al curry con frutta grigl
 iata e riso pilaf\n****\nCheese cake alla fragola\n \nCi sono altri menu a
  disposizione e chi lo desidera può sostituire il pranzo al ristorante con
  un pranzo al sacco nel Parco.\n\nIl costo stimato per le socie è di CHF 6
 5.- pranzo incluso o CHF 25.- pranzo escluso.\nPer le non socie si aggiung
 ano CHF 10.-\n \nPer motivi organizzativi vi preghiamo gentilmente di vole
 rci comunicare la vostra partecipazione entro il 31 agosto 2016 inviando u
 na e-mail a info@bpw-ticino.ch\,\nsegnalandoci la vostra presenza al pranz
 o e la presenza di vostri parenti o amici che parteciperanno all’evento.\n
  \n 
DTSTART:20160917T102000
DTEND:20160917T162500
LOCATION:Isole di Brissago
ORGANIZER:MAILTO:BPW Ticino <info@bpw-ticino.ch>
SUMMARY:Evento dedicato ai giardini
END:VEVENT
END:VCALENDAR
